BEGIN:VCALENDAR
VERSION:2.0
PRODID:-//SC Football Hall of Fame | Become a life changer for our youth! - ECPv6.15.20//NONSGML v1.0//EN
CALSCALE:GREGORIAN
METHOD:PUBLISH
X-WR-CALNAME:SC Football Hall of Fame | Become a life changer for our youth!
X-ORIGINAL-URL:https://scfootballhof.org
X-WR-CALDESC:Events for SC Football Hall of Fame | Become a life changer for our youth!
REFRESH-INTERVAL;VALUE=DURATION:PT1H
X-Robots-Tag:noindex
X-PUBLISHED-TTL:PT1H
BEGIN:VTIMEZONE
TZID:America/New_York
BEGIN:DAYLIGHT
TZOFFSETFROM:-0500
TZOFFSETTO:-0400
TZNAME:EDT
DTSTART:20210314T070000
END:DAYLIGHT
BEGIN:STANDARD
TZOFFSETFROM:-0400
TZOFFSETTO:-0500
TZNAME:EST
DTSTART:20211107T060000
END:STANDARD
BEGIN:DAYLIGHT
TZOFFSETFROM:-0500
TZOFFSETTO:-0400
TZNAME:EDT
DTSTART:20220313T070000
END:DAYLIGHT
BEGIN:STANDARD
TZOFFSETFROM:-0400
TZOFFSETTO:-0500
TZNAME:EST
DTSTART:20221106T060000
END:STANDARD
BEGIN:DAYLIGHT
TZOFFSETFROM:-0500
TZOFFSETTO:-0400
TZNAME:EDT
DTSTART:20230312T070000
END:DAYLIGHT
BEGIN:STANDARD
TZOFFSETFROM:-0400
TZOFFSETTO:-0500
TZNAME:EST
DTSTART:20231105T060000
END:STANDARD
END:VTIMEZONE
BEGIN:VEVENT
DTSTART;TZID=America/New_York:20220428T130000
DTEND;TZID=America/New_York:20220429T170000
DTSTAMP:20260423T133742
CREATED:20220428T210000Z
LAST-MODIFIED:20220301T003508Z
UID:5066-1651150800-1651251600@scfootballhof.org
SUMMARY:9th Annual Enshrinement Events & Benefit
DESCRIPTION:The South Carolina Football Hall of Fame in conjunction with Wyatt Sports & Entertainment present the 9th Annual SCFHOF Enshrinement Events & Benefit on April 28th & 29th.  This is a two-night celebration and benefit for our Bridge Builder Excellence Award & Program.  Both nights are dedicated to bring recognition to the best South Carolina has to offer as well as provide funding for Bridge Builder Excellence Award & Program initiatives that educate\, empower\, and encourage SC Students success in order to bring them into the Top 10 nationally in college and career readiness by December 31\, 2030. \nApril 28th: Zen Downtown- Bridge Builder Excellence Award Ceremony for the Top 10 Finalists.  More details & seat purchasing info coming soon. \nApril 29th: Hilton Greenville: 9th Annual Enshrinement Ceremony featuring the Class of 2021: Jeff Bostic\, Peter Boulware\, Dwayne Harper\, Chester McGlockton (Legacy Inductee)\, and Rick Sanford.\, 2021 Blanchard-Rogers Trophy (SC Heisman) Recipient Grayson McCall of Coastal Carolina\, 2021 Humanitarian of the Year Award Recipient\, & more!  More details & seat/table purchasing info coming soon. \nSAVE THE DATE! HOPE TO SEE YOU THERE!
URL:https://scfootballhof.org/event/9th-annual-enshrinement-events-benefit/
ATTACH;FMTTYPE=image/png:https://scfootballhof.org/wp-content/uploads/2022/02/Save-the-Date-2022-Enshrinement-.png
END:VEVENT
END:VCALENDAR