BEGIN:VCALENDAR
VERSION:2.0
PRODID:-//SC Football Hall of Fame | Become a life changer for our youth! - ECPv6.15.20//NONSGML v1.0//EN
CALSCALE:GREGORIAN
METHOD:PUBLISH
X-ORIGINAL-URL:https://scfootballhof.org
X-WR-CALDESC:Events for SC Football Hall of Fame | Become a life changer for our youth!
REFRESH-INTERVAL;VALUE=DURATION:PT1H
X-Robots-Tag:noindex
X-PUBLISHED-TTL:PT1H
BEGIN:VTIMEZONE
TZID:America/New_York
BEGIN:DAYLIGHT
TZOFFSETFROM:-0500
TZOFFSETTO:-0400
TZNAME:EDT
DTSTART:20220313T070000
END:DAYLIGHT
BEGIN:STANDARD
TZOFFSETFROM:-0400
TZOFFSETTO:-0500
TZNAME:EST
DTSTART:20221106T060000
END:STANDARD
BEGIN:DAYLIGHT
TZOFFSETFROM:-0500
TZOFFSETTO:-0400
TZNAME:EDT
DTSTART:20230312T070000
END:DAYLIGHT
BEGIN:STANDARD
TZOFFSETFROM:-0400
TZOFFSETTO:-0500
TZNAME:EST
DTSTART:20231105T060000
END:STANDARD
BEGIN:DAYLIGHT
TZOFFSETFROM:-0500
TZOFFSETTO:-0400
TZNAME:EDT
DTSTART:20240310T070000
END:DAYLIGHT
BEGIN:STANDARD
TZOFFSETFROM:-0400
TZOFFSETTO:-0500
TZNAME:EST
DTSTART:20241103T060000
END:STANDARD
END:VTIMEZONE
BEGIN:VEVENT
DTSTART;TZID=America/New_York:20230420T170000
DTEND;TZID=America/New_York:20230420T200000
DTSTAMP:20260423T105522
CREATED:20220722T224652Z
LAST-MODIFIED:20230223T000754Z
UID:5182-1682010000-1682020800@scfootballhof.org
SUMMARY:2023 Bridge Builder Excellence Award Ceremony
DESCRIPTION:This will be our 4th Annual Bridge Builder Excellence Award Ceremony celebrating excellent high school football student athletes who have shown excellence on the football field\, in the classroom\, and in their community as a leader and servant.  This is an event to benefit the Bridge Builder Excellence Program and our #SCTop10N2030 Campaign.  The #SCTop10N2030 Campaign is designed to raise funds in order to provide support for Bridge Builder programming that promotes education\, encouragement\, and empowerment of excellence in our South Carolina student’s success in their college\, career\, and life endeavors.  Our mission is to lead South Carolina students to the Top 10 nationally in college and career readiness by December 31\, 2030. (U.S. News & World Report listed SC 43rd nationally in 2019). \nThis event is scheduled to be held at Zen Greenville on April 20\, 2023.  More information TBD.
URL:https://scfootballhof.org/event/2023-bridge-builder-excellence-award-ceremony/
LOCATION:Zen\, Greenville\, SC\, 29601\, United States
ATTACH;FMTTYPE=image/png:https://scfootballhof.org/wp-content/uploads/2022/07/BBEA-Logo-w-50th-Anniversary-Spinx-.png
END:VEVENT
BEGIN:VEVENT
DTSTART;TZID=America/New_York:20230421T163000
DTEND;TZID=America/New_York:20230421T210000
DTSTAMP:20260423T105522
CREATED:20220722T231625Z
LAST-MODIFIED:20230314T174801Z
UID:5184-1682094600-1682110800@scfootballhof.org
SUMMARY:10th Annual SCFHOF Enshrinement Ceremony & Benefit
DESCRIPTION:Event is scheduled for April 21\, 2023\, at the Hilton Greenville.   \nEvent will include the Enshrinement of the South Carolina Football Hall of Fame Class of 2022; Coach Mike Ayers\, Joe Bostic\, Brad Edwards\, John Gilliam\, and Stanford Jennings; 2022 Blanchard-Rogers Trophy Winner (SC Heisman) Jalin Hyatt; and the 2022 Humanitarian of the Year (TBA). Space will be limited.
URL:https://scfootballhof.org/event/10th-annual-scfhof-enshrinement-ceremony-benefit/
LOCATION:Hilton Greenville\, 45 W Orchard Park Dr.\, Greenville\, SC\, 29615\, United States
ATTACH;FMTTYPE=image/png:https://scfootballhof.org/wp-content/uploads/2022/07/Dark-Blue-Option.png
END:VEVENT
END:VCALENDAR